BEGIN:VCALENDAR
VERSION:2.0
PRODID:-//Sinnoval - ECPv6.15.20//NONSGML v1.0//EN
CALSCALE:GREGORIAN
METHOD:PUBLISH
X-ORIGINAL-URL:https://sinnoval-guadeloupe.fr
X-WR-CALDESC:Évènements pour Sinnoval
REFRESH-INTERVAL;VALUE=DURATION:PT1H
X-Robots-Tag:noindex
X-PUBLISHED-TTL:PT1H
BEGIN:VTIMEZONE
TZID:America/Guadeloupe
BEGIN:STANDARD
TZOFFSETFROM:-0400
TZOFFSETTO:-0400
TZNAME:AST
DTSTART:20240101T000000
END:STANDARD
END:VTIMEZONE
BEGIN:VEVENT
DTSTART;TZID=America/Guadeloupe:20251126T093000
DTEND;TZID=America/Guadeloupe:20251126T103000
DTSTAMP:20260419T103101
CREATED:20251029T144858Z
LAST-MODIFIED:20251029T144858Z
UID:10000019-1764149400-1764153000@sinnoval-guadeloupe.fr
SUMMARY:Formation compostage
DESCRIPTION:Habitants de la CARL et de la CANGT\, apprenez les bons gestes du compostage lors d’une formation gratuite d’une heure et repartez avec votre composteur.Cette méthode naturelle permet de réduire vos déchets ménagers tout en produisant un fertilisant de qualité pour vos plantes. \nConditions de participation \n\n\nOuvert à tous les résidents du territoire du SINNOVAL (CARL ou CANGT) \n\n\nPlaces limitées\, inscription obligatoire par mail à : ambassadeurs@sinnoval-guadeloupe.fr \n\nPréciser la date de formation souhaitée dans votre message\n\nParticipez à cette initiative et contribuez à un avenir plus respectueux de l’environnement !
URL:https://sinnoval-guadeloupe.fr/evenement/formation-compostage-12/
LOCATION:CTM de Saint-François
END:VEVENT
BEGIN:VEVENT
DTSTART;TZID=America/Guadeloupe:20251119T093000
DTEND;TZID=America/Guadeloupe:20251119T103000
DTSTAMP:20260419T103101
CREATED:20251029T144709Z
LAST-MODIFIED:20251029T144709Z
UID:10000018-1763544600-1763548200@sinnoval-guadeloupe.fr
SUMMARY:Formation compostage
DESCRIPTION:Habitants de la CARL et de la CANGT\, apprenez les bons gestes du compostage lors d’une formation gratuite d’une heure et repartez avec votre composteur.Cette méthode naturelle permet de réduire vos déchets ménagers tout en produisant un fertilisant de qualité pour vos plantes. \nConditions de participation \n\n\nOuvert à tous les résidents du territoire du SINNOVAL (CARL ou CANGT) \n\n\nPlaces limitées\, inscription obligatoire par mail à : ambassadeurs@sinnoval-guadeloupe.fr \n\nPréciser la date de formation souhaitée dans votre message\n\nParticipez à cette initiative et contribuez à un avenir plus respectueux de l’environnement !
URL:https://sinnoval-guadeloupe.fr/evenement/formation-compostage-11/
LOCATION:Déchèterie de Sainte-Anne
END:VEVENT
BEGIN:VEVENT
DTSTART;TZID=America/Guadeloupe:20251112T093000
DTEND;TZID=America/Guadeloupe:20251112T103000
DTSTAMP:20260419T103101
CREATED:20251029T143908Z
LAST-MODIFIED:20251029T143908Z
UID:10000017-1762939800-1762943400@sinnoval-guadeloupe.fr
SUMMARY:Formation compostage
DESCRIPTION:Habitants de la CARL et de la CANGT\, apprenez les bons gestes du compostage lors d’une formation gratuite d’une heure et repartez avec votre composteur.Cette méthode naturelle permet de réduire vos déchets ménagers tout en produisant un fertilisant de qualité pour vos plantes. \nConditions de participation \n\n\nOuvert à tous les résidents du territoire du SINNOVAL (CARL ou CANGT) \n\n\nPlaces limitées\, inscription obligatoire par mail à : ambassadeurs@sinnoval-guadeloupe.fr \n\nPréciser la date de formation souhaitée dans votre message\n\nParticipez à cette initiative et contribuez à un avenir plus respectueux de l’environnement !
URL:https://sinnoval-guadeloupe.fr/evenement/formation-compostage-10/
LOCATION:Maison de quartier de Guenette\, Le Moule
END:VEVENT
BEGIN:VEVENT
DTSTART;TZID=America/Guadeloupe:20251105T093000
DTEND;TZID=America/Guadeloupe:20251105T103000
DTSTAMP:20260419T103101
CREATED:20251029T143035Z
LAST-MODIFIED:20251029T143035Z
UID:10000016-1762335000-1762338600@sinnoval-guadeloupe.fr
SUMMARY:Formation compostage
DESCRIPTION:Habitants de la CARL et de la CANGT\, apprenez les bons gestes du compostage lors d’une formation gratuite d’une heure et repartez avec votre composteur.Cette méthode naturelle permet de réduire vos déchets ménagers tout en produisant un fertilisant de qualité pour vos plantes. \nConditions de participation \n\n\nOuvert à tous les résidents du territoire du SINNOVAL (CARL ou CANGT) \n\n\nPlaces limitées\, inscription obligatoire par mail à : ambassadeurs@sinnoval-guadeloupe.fr \n\nPréciser la date de formation souhaitée dans votre message\n\nParticipez à cette initiative et contribuez à un avenir plus respectueux de l’environnement !
URL:https://sinnoval-guadeloupe.fr/evenement/formation-compostage-9/
LOCATION:Salle polyvalente de Petit-Canal
END:VEVENT
BEGIN:VEVENT
DTSTART;TZID=America/Guadeloupe:20251029T093000
DTEND;TZID=America/Guadeloupe:20251029T103000
DTSTAMP:20260419T103101
CREATED:20251007T142255Z
LAST-MODIFIED:20251007T142255Z
UID:10000013-1761730200-1761733800@sinnoval-guadeloupe.fr
SUMMARY:Formation compostage
DESCRIPTION:Habitants de la CARL et de la CANGT\, apprenez les bons gestes du compostage lors d’une formation gratuite d’une heure et repartez avec votre composteur.Cette méthode naturelle permet de réduire vos déchets ménagers tout en produisant un fertilisant de qualité pour vos plantes. \nConditions de participation \n\n\nOuvert à tous les résidents du territoire du SINNOVAL (CARL ou CANGT) \n\n\nPlaces limitées\, inscription obligatoire par mail à : ambassadeurs@sinnoval-guadeloupe.fr \n\nPréciser la date de formation souhaitée dans votre message\n\nParticipez à cette initiative et contribuez à un avenir plus respectueux de l’environnement !
URL:https://sinnoval-guadeloupe.fr/evenement/formation-compostage-6/
LOCATION:Salle de Grand Fond Macaille\, Anse-Bertrand
END:VEVENT
BEGIN:VEVENT
DTSTART;TZID=America/Guadeloupe:20251022T093000
DTEND;TZID=America/Guadeloupe:20251022T103000
DTSTAMP:20260419T103101
CREATED:20251007T142114Z
LAST-MODIFIED:20251007T142114Z
UID:10000011-1761125400-1761129000@sinnoval-guadeloupe.fr
SUMMARY:Formation compostage
DESCRIPTION:Habitants de la CARL et de la CANGT\, apprenez les bons gestes du compostage lors d’une formation gratuite d’une heure et repartez avec votre composteur.Cette méthode naturelle permet de réduire vos déchets ménagers tout en produisant un fertilisant de qualité pour vos plantes. \nConditions de participation \n\n\nOuvert à tous les résidents du territoire du SINNOVAL (CARL ou CANGT) \n\n\nPlaces limitées\, inscription obligatoire par mail à : ambassadeurs@sinnoval-guadeloupe.fr \n\nPréciser la date de formation souhaitée dans votre message\n\nParticipez à cette initiative et contribuez à un avenir plus respectueux de l’environnement !
URL:https://sinnoval-guadeloupe.fr/evenement/formation-compostage-4/
LOCATION:CTM de Saint-François
CATEGORIES:Formation
END:VEVENT
BEGIN:VEVENT
DTSTART;TZID=America/Guadeloupe:20251015T093000
DTEND;TZID=America/Guadeloupe:20251015T103000
DTSTAMP:20260419T103101
CREATED:20251007T142151Z
LAST-MODIFIED:20251007T142151Z
UID:10000012-1760520600-1760524200@sinnoval-guadeloupe.fr
SUMMARY:Formation compostage
DESCRIPTION:Habitants de la CARL et de la CANGT\, apprenez les bons gestes du compostage lors d’une formation gratuite d’une heure et repartez avec votre composteur.Cette méthode naturelle permet de réduire vos déchets ménagers tout en produisant un fertilisant de qualité pour vos plantes. \nConditions de participation \n\n\nOuvert à tous les résidents du territoire du SINNOVAL (CARL ou CANGT) \n\n\nPlaces limitées\, inscription obligatoire par mail à : ambassadeurs@sinnoval-guadeloupe.fr \n\nPréciser la date de formation souhaitée dans votre message\n\nParticipez à cette initiative et contribuez à un avenir plus respectueux de l’environnement !
URL:https://sinnoval-guadeloupe.fr/evenement/formation-compostage-5/
LOCATION:Déchèterie de Sainte-Anne
END:VEVENT
BEGIN:VEVENT
DTSTART;TZID=America/Guadeloupe:20251011T070000
DTEND;TZID=America/Guadeloupe:20251011T130000
DTSTAMP:20260419T103101
CREATED:20251007T141712Z
LAST-MODIFIED:20251007T141712Z
UID:10000008-1760166000-1760187600@sinnoval-guadeloupe.fr
SUMMARY:Déchèterie mobile
DESCRIPTION:Une déchèterie mobile sera mise en place pour permettre le dépôt gratuit de vos encombrants : mobiliers\, déchets électriques et électroniques (DEEE)\, ferrailles\, déchets verts\, piles\, lampes\, huiles alimentaires…
URL:https://sinnoval-guadeloupe.fr/evenement/decheterie-mobile-2/
LOCATION:Palais des Sports du Gosier
END:VEVENT
BEGIN:VEVENT
DTSTART;TZID=America/Guadeloupe:20251008T093000
DTEND;TZID=America/Guadeloupe:20251008T103000
DTSTAMP:20260419T103101
CREATED:20251007T142415Z
LAST-MODIFIED:20251007T142415Z
UID:10000014-1759915800-1759919400@sinnoval-guadeloupe.fr
SUMMARY:Formation compostage
DESCRIPTION:Habitants de la CARL et de la CANGT\, apprenez les bons gestes du compostage lors d’une formation gratuite d’une heure et repartez avec votre composteur.Cette méthode naturelle permet de réduire vos déchets ménagers tout en produisant un fertilisant de qualité pour vos plantes. \nConditions de participation \n\n\nOuvert à tous les résidents du territoire du SINNOVAL (CARL ou CANGT) \n\n\nPlaces limitées\, inscription obligatoire par mail à : ambassadeurs@sinnoval-guadeloupe.fr \n\nPréciser la date de formation souhaitée dans votre message\n\nParticipez à cette initiative et contribuez à un avenir plus respectueux de l’environnement !
URL:https://sinnoval-guadeloupe.fr/evenement/formation-compostage-7/
LOCATION:Maison de quartier de Guenette\, Le Moule
END:VEVENT
BEGIN:VEVENT
DTSTART;TZID=America/Guadeloupe:20251001T093000
DTEND;TZID=America/Guadeloupe:20251001T103000
DTSTAMP:20260419T103101
CREATED:20251007T142538Z
LAST-MODIFIED:20251007T142538Z
UID:10000015-1759311000-1759314600@sinnoval-guadeloupe.fr
SUMMARY:Formation compostage
DESCRIPTION:Habitants de la CARL et de la CANGT\, apprenez les bons gestes du compostage lors d’une formation gratuite d’une heure et repartez avec votre composteur.Cette méthode naturelle permet de réduire vos déchets ménagers tout en produisant un fertilisant de qualité pour vos plantes. \nConditions de participation \n\n\nOuvert à tous les résidents du territoire du SINNOVAL (CARL ou CANGT) \n\n\nPlaces limitées\, inscription obligatoire par mail à : ambassadeurs@sinnoval-guadeloupe.fr \n\nPréciser la date de formation souhaitée dans votre message\n\nParticipez à cette initiative et contribuez à un avenir plus respectueux de l’environnement !
URL:https://sinnoval-guadeloupe.fr/evenement/formation-compostage-8/
LOCATION:Pôle de Valorisation des déchets de Richeval\, Morne-à-L’eau
END:VEVENT
BEGIN:VEVENT
DTSTART;TZID=America/Guadeloupe:20250924T093000
DTEND;TZID=America/Guadeloupe:20250924T103000
DTSTAMP:20260419T103101
CREATED:20250912T142932Z
LAST-MODIFIED:20250924T093141Z
UID:10000005-1758706200-1758709800@sinnoval-guadeloupe.fr
SUMMARY:Formation compostage
DESCRIPTION:Habitants de la CARL et de la CANGT\, apprenez les bons gestes du compostage lors d’une formation gratuite d’une heure et repartez avec votre composteur.Cette méthode naturelle permet de réduire vos déchets ménagers tout en produisant un fertilisant de qualité pour vos plantes. \nConditions de participation \n\n\nOuvert à tous les résidents du territoire du SINNOVAL (CARL ou CANGT) \n\n\nPlaces limitées\, inscription obligatoire par mail à : ambassadeurs@sinnoval-guadeloupe.fr \n\nPréciser la date de formation souhaitée dans votre message\n\nParticipez à cette initiative et contribuez à un avenir plus respectueux de l’environnement !
URL:https://sinnoval-guadeloupe.fr/evenement/formation-compostage-2/
LOCATION:CTM de Saint-François
CATEGORIES:Formation
END:VEVENT
BEGIN:VEVENT
DTSTART;TZID=America/Guadeloupe:20250920T093000
DTEND;TZID=America/Guadeloupe:20250920T103000
DTSTAMP:20260419T103101
CREATED:20250912T143201Z
LAST-MODIFIED:20250912T143201Z
UID:10000006-1758360600-1758364200@sinnoval-guadeloupe.fr
SUMMARY:Formation compostage
DESCRIPTION:Habitants de la CARL et de la CANGT\, apprenez les bons gestes du compostage lors d’une formation gratuite d’une heure et repartez avec votre composteur.Cette méthode naturelle permet de réduire vos déchets ménagers tout en produisant un fertilisant de qualité pour vos plantes. \nConditions de participation \n\n\nOuvert à tous les résidents du territoire du SINNOVAL (CARL ou CANGT) \n\n\nPlaces limitées\, inscription obligatoire par mail à : ambassadeurs@sinnoval-guadeloupe.fr \n\nPréciser la date de formation souhaitée dans votre message\n\nParticipez à cette initiative et contribuez à un avenir plus respectueux de l’environnement !
URL:https://sinnoval-guadeloupe.fr/evenement/formation-compostage-3/
LOCATION:Salle de Grand Fond Macaille\, Anse-Bertrand
END:VEVENT
BEGIN:VEVENT
DTSTART;TZID=America/Guadeloupe:20250917T093000
DTEND;TZID=America/Guadeloupe:20250917T103000
DTSTAMP:20260419T103101
CREATED:20250912T142417Z
LAST-MODIFIED:20250912T143319Z
UID:10000004-1758101400-1758105000@sinnoval-guadeloupe.fr
SUMMARY:Formation compostage
DESCRIPTION:Habitants de la CARL et de la CANGT\, apprenez les bons gestes du compostage lors d’une formation gratuite d’une heure et repartez avec votre composteur.Cette méthode naturelle permet de réduire vos déchets ménagers tout en produisant un fertilisant de qualité pour vos plantes. \nConditions de participation \n\n\nOuvert à tous les résidents du territoire du SINNOVAL (CARL ou CANGT) \n\n\nPlaces limitées\, inscription obligatoire par mail à : ambassadeurs@sinnoval-guadeloupe.fr \n\nPréciser la date de formation souhaitée dans votre message\n\nParticipez à cette initiative et contribuez à un avenir plus respectueux de l’environnement !
URL:https://sinnoval-guadeloupe.fr/evenement/formation-compostage/
LOCATION:Déchèterie de Sainte-Anne
END:VEVENT
BEGIN:VEVENT
DTSTART;TZID=America/Guadeloupe:20250913T070000
DTEND;TZID=America/Guadeloupe:20250913T130000
DTSTAMP:20260419T103101
CREATED:20250912T141621Z
LAST-MODIFIED:20250912T141857Z
UID:10000003-1757746800-1757768400@sinnoval-guadeloupe.fr
SUMMARY:Déchèterie mobile
DESCRIPTION:Une déchèterie mobile sera mise en place pour permettre le dépôt gratuit de vos encombrants : mobiliers\, déchets électriques et électroniques (DEEE)\, ferrailles\, déchets verts\, piles\, lampes\, huiles alimentaires…
URL:https://sinnoval-guadeloupe.fr/evenement/decheterie-mobile/
LOCATION:Palais des Sports du Gosier
END:VEVENT
END:VCALENDAR